BEGIN:VCALENDAR
VERSION:2.0
PRODID:-//Fort Worth Housing Solutions - ECPv6.15.12.2//NONSGML v1.0//EN
CALSCALE:GREGORIAN
METHOD:PUBLISH
X-ORIGINAL-URL:https://fwhs.org
X-WR-CALDESC:Events for Fort Worth Housing Solutions
REFRESH-INTERVAL;VALUE=DURATION:PT1H
X-Robots-Tag:noindex
X-PUBLISHED-TTL:PT1H
BEGIN:VTIMEZONE
TZID:America/Chicago
BEGIN:DAYLIGHT
TZOFFSETFROM:-0600
TZOFFSETTO:-0500
TZNAME:CDT
DTSTART:20250309T080000
END:DAYLIGHT
BEGIN:STANDARD
TZOFFSETFROM:-0500
TZOFFSETTO:-0600
TZNAME:CST
DTSTART:20251102T070000
END:STANDARD
BEGIN:DAYLIGHT
TZOFFSETFROM:-0600
TZOFFSETTO:-0500
TZNAME:CDT
DTSTART:20260308T080000
END:DAYLIGHT
BEGIN:STANDARD
TZOFFSETFROM:-0500
TZOFFSETTO:-0600
TZNAME:CST
DTSTART:20261101T070000
END:STANDARD
BEGIN:DAYLIGHT
TZOFFSETFROM:-0600
TZOFFSETTO:-0500
TZNAME:CDT
DTSTART:20270314T080000
END:DAYLIGHT
BEGIN:STANDARD
TZOFFSETFROM:-0500
TZOFFSETTO:-0600
TZNAME:CST
DTSTART:20271107T070000
END:STANDARD
END:VTIMEZONE
BEGIN:VEVENT
DTSTART;TZID=America/Chicago:20260127T120000
DTEND;TZID=America/Chicago:20260127T133000
DTSTAMP:20260422T165338
CREATED:20260115T210234Z
LAST-MODIFIED:20260126T005808Z
UID:10001025-1769515200-1769520600@fwhs.org
SUMMARY:CANCELLED: Regular Board Meeting
DESCRIPTION:Cancelled due to inclement weather. Rescheduled date will be posted as soon as possible.
URL:https://fwhs.org/event/regular-board-meeting-3/
LOCATION:Fort Worth Housing Solutions Administrative Office\, 1407 Texas St.\, Fort Worth\, TX\, 76102\, United States
CATEGORIES:Board Meetings
END:VEVENT
BEGIN:VEVENT
DTSTART;TZID=America/Chicago:20260129T120000
DTEND;TZID=America/Chicago:20260129T133000
DTSTAMP:20260422T165338
CREATED:20260126T152556Z
LAST-MODIFIED:20260126T152556Z
UID:10001026-1769688000-1769693400@fwhs.org
SUMMARY:Regular Board Meeting
DESCRIPTION:
URL:https://fwhs.org/event/regular-board-meeting4/
LOCATION:Fort Worth Housing Solutions Administrative Office\, 1407 Texas St.\, Fort Worth\, TX\, 76102\, United States
CATEGORIES:Board Meetings
END:VEVENT
END:VCALENDAR